BEGIN:VCALENDAR
VERSION:2.0
PRODID:-//Squarespace Inc/Squarespace 6//v6//EN
BEGIN:VEVENT
UID:5d67450658b0010001f90e4b@squarespace.com
DTSTAMP:20190904T060651Z
DTSTART:20190907T050000Z
DTEND:20190907T070000Z
SUMMARY:Moving with the Seasons: Spring
END:VEVENT
END:VCALENDAR
