BEGIN:VCALENDAR
VERSION:2.0
PRODID:-//Squarespace Inc/Squarespace 6//v6//EN
BEGIN:VEVENT
UID:5d895be522a4747095b8a6bd@squarespace.com
DTSTAMP:20190927T072324Z
DTSTART:20191101T083000Z
DTEND:20191101T093000Z
SUMMARY:Sound Bath - November
END:VEVENT
END:VCALENDAR
